BEGIN:VCALENDAR
VERSION:2.0
PRODID:icalendar-ruby
CALSCALE:GREGORIAN
METHOD:PUBLISH
BEGIN:VEVENT
DTSTAMP:20260421T124306Z
UID:100-2014782@hohenfelsbc.com
DTSTART:20261015T164500Z
DTEND:20261015T173000Z
CLASS:PUBLIC
CREATED:20260421T124923
DESCRIPTION:A verse by verse study of select books of the Bible or biblical
  topics.
LAST-MODIFIED:20260421T124923
LOCATION:
SUMMARY:Bible Study
URL;VALUE=URI:https://hohenfelsbc.com/events/bible-study--100/2026-10-15
ATTACH;FILENAME=sixteen-miles-out-Iz6x7yHMkQA-unsplash.jpg;FMTTYPE=image/jp
 eg:https://dq5pwpg1q8ru0.cloudfront.net/2025/08/23/08/19/32/d050237d-a6fd-
 4660-8c68-f9687abb2470/sixteen-miles-out-Iz6x7yHMkQA-unsplash.jpg
END:VEVENT
END:VCALENDAR
