BEGIN:VCALENDAR
VERSION:2.0
PRODID:icalendar-ruby
CALSCALE:GREGORIAN
METHOD:PUBLISH
BEGIN:VEVENT
DTSTAMP:20260424T110118Z
UID:98-2037867@hohenfelsbc.com
DTSTART:20261029T173000Z
DTEND:20261029T174500Z
CLASS:PUBLIC
CREATED:20260424T125541
DESCRIPTION:
LAST-MODIFIED:20260424T125541
LOCATION:
SUMMARY:Prayer & Praise
URL;VALUE=URI:https://hohenfelsbc.com/events/prayer-praise/2026-10-29
ATTACH;FILENAME=Prayer and Praise.jpg;FMTTYPE=image/jpeg:https://dq5pwpg1q8
 ru0.cloudfront.net/2025/02/20/09/26/46/9be553a1-f663-4c80-9239-62ebbec9340
 3/Prayer%20and%20Praise.jpg
END:VEVENT
END:VCALENDAR
